BEGIN:VCALENDAR
METHOD:PUBLISH
PRODID:-//doubleknot.com//CalenderEvent MIMEDIR//EN
VERSION:2.0
BEGIN:VEVENT
UID:3060214-20250624T210000Z-20250625T000000Z@doubleknot.com
CREATED:20240710T212631Z
LAST-MODIFIED:20250609T170910Z
DTSTAMP:20260419T142418Z
DTSTART:20250624T210000Z
DTEND:20250625T000000Z
LOCATION:3703 N. Richmond Rd, Johnsburg, IL, US
CATEGORIES:
DESCRIPTION:2025 TIGER Cub Scout Day Camp Registration \n  \n  \n Tiger Day Camp is open to registered scouts for Tiger Rank as of June 1. Going into First grade.    \n  \n  \n Each Scout must be accompanied by an adult partner. \n  \n  \n WHEN: Tuesday, June 24, 2025 ----   TIME: 3:30PM &ndash; 7:30PM \n  \n  \n WHERE: McHenry Township Park, 3703 N. Richmond Rd., Johnsburg \n  \n  \n COST: SAVE $10! only $21 if Registered by May 17th!!! $31 per Scout after May 17th. \n  \n  \n Registration closes June 1. \n  \n  \n   \n  \n  \n Join us for FUN at Day Camp for Tiger Cubs. Your scout can learn new skills and have fun with other scouts while shooting a bow/arrow, making a craft, and playing sports and games. \n  \n  \n   \n  \n  \n Each Scout must be accompanied by an adult partner. \n  \n  \n Day Camp registration considerations: \n  \n  \n  \n 	Day Camp is for registered BSA cub scouts only. \n 	Every Scout must have an Adult partner attend. \n  \n  \n   \n  \n  \n What to bring to camp: (scouts &amp; adults) \n  \n  \n  \n 	Please dress appropriately for the weather. \n 	Close toed shoes must be worn; NO SANDALS (scouts &amp; adults please) \n 	Backpack, Sunscreen, Rain Gear, Insect Repellent (no aerosol bottles), Water Bottle, Hat \n 	Pack a snack &ndash; for scouts and adult partners &amp; cooler if needed.  \n 	Blanket to sit on during snack time. \n 
SUMMARY:SYC - Tiger Camp
PRIORITY:5
BEGIN:VALARM
TRIGGER:PT15M
ACTION:DISPLAY
DESCRIPTION:Reminder
PRIORITY:5
END:VALARM
END:VEVENT
END:VCALENDAR
